BEGIN:VCALENDAR
VERSION:2.0
PRODID:-//Gemeinde Fuchstal - ECPv6.15.20//NONSGML v1.0//EN
CALSCALE:GREGORIAN
METHOD:PUBLISH
X-ORIGINAL-URL:https://fuchstal.de
X-WR-CALDESC:Veranstaltungen für Gemeinde Fuchstal
REFRESH-INTERVAL;VALUE=DURATION:PT1H
X-Robots-Tag:noindex
X-PUBLISHED-TTL:PT1H
BEGIN:VTIMEZONE
TZID:Europe/Helsinki
BEGIN:DAYLIGHT
TZOFFSETFROM:+0200
TZOFFSETTO:+0300
TZNAME:EEST
DTSTART:20250330T010000
END:DAYLIGHT
BEGIN:STANDARD
TZOFFSETFROM:+0300
TZOFFSETTO:+0200
TZNAME:EET
DTSTART:20251026T010000
END:STANDARD
BEGIN:DAYLIGHT
TZOFFSETFROM:+0200
TZOFFSETTO:+0300
TZNAME:EEST
DTSTART:20260329T010000
END:DAYLIGHT
BEGIN:STANDARD
TZOFFSETFROM:+0300
TZOFFSETTO:+0200
TZNAME:EET
DTSTART:20261025T010000
END:STANDARD
BEGIN:DAYLIGHT
TZOFFSETFROM:+0200
TZOFFSETTO:+0300
TZNAME:EEST
DTSTART:20270328T010000
END:DAYLIGHT
BEGIN:STANDARD
TZOFFSETFROM:+0300
TZOFFSETTO:+0200
TZNAME:EET
DTSTART:20271031T010000
END:STANDARD
END:VTIMEZONE
BEGIN:VEVENT
DTSTART;TZID=Europe/Helsinki:20261119T000000
DTEND;TZID=Europe/Helsinki:20261119T000000
DTSTAMP:20260421T212823
CREATED:20260408T121945Z
LAST-MODIFIED:20260408T121945Z
UID:10000147-1795046400-1795046400@fuchstal.de
SUMMARY:Ewige Anbetung
DESCRIPTION:
URL:https://fuchstal.de/termin/ewige-anbetung-2/
LOCATION:Kirche Asch\, Kirchenweg 2\, Fuchstal\, Bayern\, 86925\, Deutschland
ORGANIZER;CN="Pfarrei Asch":MAILTO:pg-fuchstal@bistum-augsburg.de
END:VEVENT
BEGIN:VEVENT
DTSTART;TZID=Europe/Helsinki:20261128T200000
DTEND;TZID=Europe/Helsinki:20261128T200000
DTSTAMP:20260421T212823
CREATED:20260408T121945Z
LAST-MODIFIED:20260408T121945Z
UID:10000148-1795896000-1795896000@fuchstal.de
SUMMARY:Konzert
DESCRIPTION:
URL:https://fuchstal.de/termin/konzert/
LOCATION:Fuchstalhalle\, Freybergstraße 34\, Fuchstal\, Bayern\, 86925\, Deutschland
ORGANIZER;CN="Blaskapelle Markt Leeder":MAILTO:vorstand@blaskapelle-markt-leeder.de
END:VEVENT
BEGIN:VEVENT
DTSTART;TZID=Europe/Helsinki:20261129T100000
DTEND;TZID=Europe/Helsinki:20261129T100000
DTSTAMP:20260421T212823
CREATED:20260408T121945Z
LAST-MODIFIED:20260408T121945Z
UID:10000149-1795946400-1795946400@fuchstal.de
SUMMARY:Kinderkirche zum 1. Advent
DESCRIPTION:
URL:https://fuchstal.de/termin/kinderkirche-zum-1-advent/
LOCATION:Hofgartenhaus Leeder
END:VEVENT
BEGIN:VEVENT
DTSTART;TZID=Europe/Helsinki:20261129T140000
DTEND;TZID=Europe/Helsinki:20261129T140000
DTSTAMP:20260421T212823
CREATED:20260408T122008Z
LAST-MODIFIED:20260408T122008Z
UID:10000150-1795960800-1795960800@fuchstal.de
SUMMARY:Weihnachtsreiten
DESCRIPTION:
URL:https://fuchstal.de/termin/weihnachtsreiten/
LOCATION:Reitanlage Asch
ORGANIZER;CN="Reit- und Fahrverein Fuchstal e.V.":MAILTO:simonhefele@gmx.de
END:VEVENT
BEGIN:VEVENT
DTSTART;TZID=Europe/Helsinki:20261203T190000
DTEND;TZID=Europe/Helsinki:20261203T190000
DTSTAMP:20260421T212823
CREATED:20260408T122008Z
LAST-MODIFIED:20260408T122008Z
UID:10000151-1796324400-1796324400@fuchstal.de
SUMMARY:Nikolausschießen
DESCRIPTION:
URL:https://fuchstal.de/termin/nikolausschiessen/
LOCATION:Schützenheim Leeder\, Freybergstraße 34\, Fuchstal\, Bayern\, 86925\, Deutschland
END:VEVENT
BEGIN:VEVENT
DTSTART;TZID=Europe/Helsinki:20261205T000000
DTEND;TZID=Europe/Helsinki:20261205T000000
DTSTAMP:20260421T212823
CREATED:20260408T122008Z
LAST-MODIFIED:20260408T122008Z
UID:10000152-1796428800-1796428800@fuchstal.de
SUMMARY:Weihnachtsmarkt
DESCRIPTION:
URL:https://fuchstal.de/termin/weihnachtsmarkt/
LOCATION:Asch
END:VEVENT
BEGIN:VEVENT
DTSTART;TZID=Europe/Helsinki:20261205T193000
DTEND;TZID=Europe/Helsinki:20261205T193000
DTSTAMP:20260421T212823
CREATED:20260408T122008Z
LAST-MODIFIED:20260408T122008Z
UID:10000153-1796499000-1796499000@fuchstal.de
SUMMARY:Weihnachtsfeier
DESCRIPTION:
URL:https://fuchstal.de/termin/weihnachtsfeier/
LOCATION:Schützenheim Leeder\, Freybergstraße 34\, Fuchstal\, Bayern\, 86925\, Deutschland
END:VEVENT
BEGIN:VEVENT
DTSTART;TZID=Europe/Helsinki:20261206T100000
DTEND;TZID=Europe/Helsinki:20261206T100000
DTSTAMP:20260421T212823
CREATED:20260408T122008Z
LAST-MODIFIED:20260408T122008Z
UID:10000154-1796551200-1796551200@fuchstal.de
SUMMARY:Kinderkirche zum 2. Advent
DESCRIPTION:
URL:https://fuchstal.de/termin/kinderkirche-zum-2-advent/
LOCATION:Mehrzweckhalle Udi
END:VEVENT
BEGIN:VEVENT
DTSTART;TZID=Europe/Helsinki:20261206T100000
DTEND;TZID=Europe/Helsinki:20261206T100000
DTSTAMP:20260421T212823
CREATED:20260408T122033Z
LAST-MODIFIED:20260408T122033Z
UID:10000155-1796551200-1796551200@fuchstal.de
SUMMARY:Patrozinium
DESCRIPTION:
URL:https://fuchstal.de/termin/patrozinium-3/
LOCATION:Kirche Seestall\, Kirchenweg 2\, Fuchstal\, Bayern\, 86925\, Deutschland
END:VEVENT
BEGIN:VEVENT
DTSTART;TZID=Europe/Helsinki:20261207T183000
DTEND;TZID=Europe/Helsinki:20261207T183000
DTSTAMP:20260421T212823
CREATED:20260408T122033Z
LAST-MODIFIED:20260408T122033Z
UID:10000156-1796668200-1796668200@fuchstal.de
SUMMARY:Festl. Rorate zum Hochfest (Vorabendmesse)
DESCRIPTION:
URL:https://fuchstal.de/termin/festl-rorate-zum-hochfest-vorabendmesse/
LOCATION:Stockkapelle\, Kirchenweg 2\, Fuchstal\, Bayern\, 86925\, Deutschland
END:VEVENT
BEGIN:VEVENT
DTSTART;TZID=Europe/Helsinki:20261209T140000
DTEND;TZID=Europe/Helsinki:20261209T140000
DTSTAMP:20260421T212823
CREATED:20260408T122033Z
LAST-MODIFIED:20260408T122033Z
UID:10000157-1796824800-1796824800@fuchstal.de
SUMMARY:Weihnachtsfeier
DESCRIPTION:
URL:https://fuchstal.de/termin/weihnachtsfeier-2/
LOCATION:Hofgartenhaus Leeder
END:VEVENT
BEGIN:VEVENT
DTSTART;TZID=Europe/Helsinki:20261212T140000
DTEND;TZID=Europe/Helsinki:20261212T140000
DTSTAMP:20260421T212823
CREATED:20260408T122033Z
LAST-MODIFIED:20260408T122033Z
UID:10000159-1797084000-1797084000@fuchstal.de
SUMMARY:Adventliche Auszeit
DESCRIPTION:
URL:https://fuchstal.de/termin/adventliche-auszeit/
LOCATION:Haus der Begegnung Asch
ORGANIZER;CN="Pfarrei Asch":MAILTO:pg-fuchstal@bistum-augsburg.de
END:VEVENT
BEGIN:VEVENT
DTSTART;TZID=Europe/Helsinki:20261212T150000
DTEND;TZID=Europe/Helsinki:20261213T000000
DTSTAMP:20260421T212823
CREATED:20260408T122033Z
LAST-MODIFIED:20260408T122033Z
UID:10000158-1797087600-1797120000@fuchstal.de
SUMMARY:Christkindlmarkt
DESCRIPTION:
URL:https://fuchstal.de/termin/christkindlmarkt/
LOCATION:Hofgarten
ORGANIZER;CN="Blaskapelle Markt Leeder":MAILTO:vorstand@blaskapelle-markt-leeder.de
END:VEVENT
BEGIN:VEVENT
DTSTART;TZID=Europe/Helsinki:20261213T100000
DTEND;TZID=Europe/Helsinki:20261213T100000
DTSTAMP:20260421T212823
CREATED:20260408T122049Z
LAST-MODIFIED:20260408T122049Z
UID:10000160-1797156000-1797156000@fuchstal.de
SUMMARY:Kinderkirche zum 3. Advent
DESCRIPTION:
URL:https://fuchstal.de/termin/kinderkirche-zum-3-advent/
LOCATION:Haus der Begegnung Asch
END:VEVENT
BEGIN:VEVENT
DTSTART;TZID=Europe/Helsinki:20261215T140000
DTEND;TZID=Europe/Helsinki:20261215T140000
DTSTAMP:20260421T212823
CREATED:20260408T122049Z
LAST-MODIFIED:20260408T122049Z
UID:10000161-1797343200-1797343200@fuchstal.de
SUMMARY:Weihnachtsfeier
DESCRIPTION:
URL:https://fuchstal.de/termin/weihnachtsfeier-3/
LOCATION:Haus der Begegnung Asch
END:VEVENT
BEGIN:VEVENT
DTSTART;TZID=Europe/Helsinki:20261220T100000
DTEND;TZID=Europe/Helsinki:20261220T100000
DTSTAMP:20260421T212823
CREATED:20260408T122049Z
LAST-MODIFIED:20260408T122049Z
UID:10000162-1797760800-1797760800@fuchstal.de
SUMMARY:Kinderkirche zum 4. Advent
DESCRIPTION:
URL:https://fuchstal.de/termin/kinderkirche-zum-4-advent/
LOCATION:Pfarrheim Denklingen
END:VEVENT
BEGIN:VEVENT
DTSTART;TZID=Europe/Helsinki:20261224T150000
DTEND;TZID=Europe/Helsinki:20261224T150000
DTSTAMP:20260421T212823
CREATED:20260408T122050Z
LAST-MODIFIED:20260408T122050Z
UID:10000163-1798124400-1798124400@fuchstal.de
SUMMARY:Kinderkirche am Hl. Abend
DESCRIPTION:
URL:https://fuchstal.de/termin/kinderkirche-am-hl-abend/
LOCATION:Kirche Leeder\, Kirchenweg 2\, Fuchstal\, Bayern\, 86925\, Deutschland
END:VEVENT
BEGIN:VEVENT
DTSTART;TZID=Europe/Helsinki:20261224T160000
DTEND;TZID=Europe/Helsinki:20261224T160000
DTSTAMP:20260421T212823
CREATED:20260408T122050Z
LAST-MODIFIED:20260408T122050Z
UID:10000164-1798128000-1798128000@fuchstal.de
SUMMARY:Kinderkirche am Hl. Abend
DESCRIPTION:
URL:https://fuchstal.de/termin/kinderkirche-am-hl-abend-2/
LOCATION:Kirche Oberdießen
END:VEVENT
BEGIN:VEVENT
DTSTART;TZID=Europe/Helsinki:20261224T180000
DTEND;TZID=Europe/Helsinki:20261224T180000
DTSTAMP:20260421T212823
CREATED:20260408T122107Z
LAST-MODIFIED:20260408T122107Z
UID:10000165-1798135200-1798135200@fuchstal.de
SUMMARY:Christmette
DESCRIPTION:
URL:https://fuchstal.de/termin/christmette/
LOCATION:Kirche Unterdießen
END:VEVENT
BEGIN:VEVENT
DTSTART;TZID=Europe/Helsinki:20261224T210000
DTEND;TZID=Europe/Helsinki:20261224T210000
DTSTAMP:20260421T212823
CREATED:20260408T122107Z
LAST-MODIFIED:20260408T122107Z
UID:10000166-1798146000-1798146000@fuchstal.de
SUMMARY:Christmette
DESCRIPTION:
URL:https://fuchstal.de/termin/christmette-2/
LOCATION:Kirche Asch\, Kirchenweg 2\, Fuchstal\, Bayern\, 86925\, Deutschland
END:VEVENT
BEGIN:VEVENT
DTSTART;TZID=Europe/Helsinki:20261226T100000
DTEND;TZID=Europe/Helsinki:20261226T100000
DTSTAMP:20260421T212823
CREATED:20260408T122107Z
LAST-MODIFIED:20260408T122107Z
UID:10000167-1798279200-1798279200@fuchstal.de
SUMMARY:Patrozinium
DESCRIPTION:
URL:https://fuchstal.de/termin/patrozinium-4/
LOCATION:Kirche Welden\, Fuchstal\, Bayern\, 86925\, Deutschland
END:VEVENT
BEGIN:VEVENT
DTSTART;TZID=Europe/Helsinki:20261231T090000
DTEND;TZID=Europe/Helsinki:20261231T090000
DTSTAMP:20260421T212823
CREATED:20260408T122107Z
LAST-MODIFIED:20260408T122107Z
UID:10000168-1798707600-1798707600@fuchstal.de
SUMMARY:Neujahrsanspielen
DESCRIPTION:
URL:https://fuchstal.de/termin/neujahrsanspielen/
LOCATION:Bayern
END:VEVENT
END:VCALENDAR