BEGIN:VCALENDAR
VERSION:2.0
PRODID:-//Gemeinde Fuchstal - ECPv6.15.20//NONSGML v1.0//EN
CALSCALE:GREGORIAN
METHOD:PUBLISH
X-ORIGINAL-URL:https://fuchstal.de
X-WR-CALDESC:Veranstaltungen für Gemeinde Fuchstal
REFRESH-INTERVAL;VALUE=DURATION:PT1H
X-Robots-Tag:noindex
X-PUBLISHED-TTL:PT1H
BEGIN:VTIMEZONE
TZID:Europe/Helsinki
BEGIN:DAYLIGHT
TZOFFSETFROM:+0200
TZOFFSETTO:+0300
TZNAME:EEST
DTSTART:20250330T010000
END:DAYLIGHT
BEGIN:STANDARD
TZOFFSETFROM:+0300
TZOFFSETTO:+0200
TZNAME:EET
DTSTART:20251026T010000
END:STANDARD
BEGIN:DAYLIGHT
TZOFFSETFROM:+0200
TZOFFSETTO:+0300
TZNAME:EEST
DTSTART:20260329T010000
END:DAYLIGHT
BEGIN:STANDARD
TZOFFSETFROM:+0300
TZOFFSETTO:+0200
TZNAME:EET
DTSTART:20261025T010000
END:STANDARD
BEGIN:DAYLIGHT
TZOFFSETFROM:+0200
TZOFFSETTO:+0300
TZNAME:EEST
DTSTART:20270328T010000
END:DAYLIGHT
BEGIN:STANDARD
TZOFFSETFROM:+0300
TZOFFSETTO:+0200
TZNAME:EET
DTSTART:20271031T010000
END:STANDARD
END:VTIMEZONE
BEGIN:VEVENT
DTSTART;TZID=Europe/Helsinki:20260914T181500
DTEND;TZID=Europe/Helsinki:20260914T181500
DTSTAMP:20260421T182416
CREATED:20260408T121640Z
LAST-MODIFIED:20260408T121640Z
UID:10000123-1789409700-1789409700@fuchstal.de
SUMMARY:Gelöbniswallfahrt \nzur Stockkapelle
DESCRIPTION:
URL:https://fuchstal.de/termin/geloebniswallfahrt-zur-stockkapelle/
LOCATION:Bayern
ORGANIZER;CN="Pfarrei Asch":MAILTO:pg-fuchstal@bistum-augsburg.de
END:VEVENT
BEGIN:VEVENT
DTSTART;TZID=Europe/Helsinki:20260915T140000
DTEND;TZID=Europe/Helsinki:20260915T140000
DTSTAMP:20260421T182416
CREATED:20260408T121640Z
LAST-MODIFIED:20260408T121640Z
UID:10000124-1789480800-1789480800@fuchstal.de
SUMMARY:monatliches Treffen
DESCRIPTION:
URL:https://fuchstal.de/termin/monatliches-treffen-7/
LOCATION:Haus der Begegnung Asch
END:VEVENT
BEGIN:VEVENT
DTSTART;TZID=Europe/Helsinki:20260927T100000
DTEND;TZID=Europe/Helsinki:20260927T100000
DTSTAMP:20260421T182416
CREATED:20260408T121651Z
LAST-MODIFIED:20260408T121651Z
UID:10000125-1790503200-1790503200@fuchstal.de
SUMMARY:Kinderkirche
DESCRIPTION:
URL:https://fuchstal.de/termin/kinderkirche-3/
LOCATION:Pfarrheim Denklingen
END:VEVENT
BEGIN:VEVENT
DTSTART;TZID=Europe/Helsinki:20261003T180000
DTEND;TZID=Europe/Helsinki:20261003T180000
DTSTAMP:20260421T182416
CREATED:20260408T121651Z
LAST-MODIFIED:20260408T121651Z
UID:10000126-1791050400-1791050400@fuchstal.de
SUMMARY:Ehedankgottesdienst
DESCRIPTION:
URL:https://fuchstal.de/termin/ehedankgottesdienst/
LOCATION:Kirche Asch\, Kirchenweg 2\, Fuchstal\, Bayern\, 86925\, Deutschland
END:VEVENT
BEGIN:VEVENT
DTSTART;TZID=Europe/Helsinki:20261004T100000
DTEND;TZID=Europe/Helsinki:20261004T100000
DTSTAMP:20260421T182416
CREATED:20260408T121651Z
LAST-MODIFIED:20260408T121651Z
UID:10000127-1791108000-1791108000@fuchstal.de
SUMMARY:Patrozinium
DESCRIPTION:
URL:https://fuchstal.de/termin/patrozinium-2/
LOCATION:Kirche Leeder\, Kirchenweg 2\, Fuchstal\, Bayern\, 86925\, Deutschland
ORGANIZER;CN="Pfarrei Leeder":MAILTO:pg-fuchstal@bistum-augsburg.de
END:VEVENT
BEGIN:VEVENT
DTSTART;TZID=Europe/Helsinki:20261004T100000
DTEND;TZID=Europe/Helsinki:20261004T100000
DTSTAMP:20260421T182416
CREATED:20260408T121651Z
LAST-MODIFIED:20260408T121651Z
UID:10000128-1791108000-1791108000@fuchstal.de
SUMMARY:Kinderkirche
DESCRIPTION:
URL:https://fuchstal.de/termin/kinderkirche-4/
LOCATION:Hofgartenhaus Leeder
END:VEVENT
BEGIN:VEVENT
DTSTART;TZID=Europe/Helsinki:20261006T143000
DTEND;TZID=Europe/Helsinki:20261006T143000
DTSTAMP:20260421T182416
CREATED:20260408T121651Z
LAST-MODIFIED:20260408T121651Z
UID:10000129-1791297000-1791297000@fuchstal.de
SUMMARY:Kraftquelle
DESCRIPTION:
URL:https://fuchstal.de/termin/kraftquelle/
LOCATION:Haus der Begegnung Asch
END:VEVENT
BEGIN:VEVENT
DTSTART;TZID=Europe/Helsinki:20261010T140000
DTEND;TZID=Europe/Helsinki:20261010T140000
DTSTAMP:20260421T182416
CREATED:20260408T121655Z
LAST-MODIFIED:20260408T121655Z
UID:10000130-1791640800-1791640800@fuchstal.de
SUMMARY:Marienandacht mit anschl. Kaffee und Kuchen
DESCRIPTION:
URL:https://fuchstal.de/termin/marienandacht-mit-anschl-kaffee-und-kuchen/
LOCATION:Kirche Asch\, Kirchenweg 2\, Fuchstal\, Bayern\, 86925\, Deutschland
ORGANIZER;CN="Pfarrei Asch":MAILTO:pg-fuchstal@bistum-augsburg.de
END:VEVENT
BEGIN:VEVENT
DTSTART;TZID=Europe/Helsinki:20261011T100000
DTEND;TZID=Europe/Helsinki:20261011T100000
DTSTAMP:20260421T182416
CREATED:20260408T121655Z
LAST-MODIFIED:20260408T121655Z
UID:10000131-1791712800-1791712800@fuchstal.de
SUMMARY:Biergarten Marktsonntag
DESCRIPTION:
URL:https://fuchstal.de/termin/biergarten-marktsonntag-2/
LOCATION:Feuerwehrhaus Leeder\, Schulstraße 2\, Fuchstal\, Bayern\, 86925\, Deutschland
END:VEVENT
BEGIN:VEVENT
DTSTART;TZID=Europe/Helsinki:20261011T100000
DTEND;TZID=Europe/Helsinki:20261011T100000
DTSTAMP:20260421T182416
CREATED:20260408T121655Z
LAST-MODIFIED:20260408T121655Z
UID:10000132-1791712800-1791712800@fuchstal.de
SUMMARY:Markt Sonntag
DESCRIPTION:
URL:https://fuchstal.de/termin/markt-sonntag/
LOCATION:Hauptstraße Leeder\, Hauptstraße\, Fuchstal\, Bayern\, 86925\, Deutschland
END:VEVENT
BEGIN:VEVENT
DTSTART;TZID=Europe/Helsinki:20261013T143000
DTEND;TZID=Europe/Helsinki:20261013T143000
DTSTAMP:20260421T182416
CREATED:20260408T121656Z
LAST-MODIFIED:20260408T121656Z
UID:10000133-1791901800-1791901800@fuchstal.de
SUMMARY:Kraftquelle
DESCRIPTION:
URL:https://fuchstal.de/termin/kraftquelle-2/
LOCATION:Pfarrheim Denklingen
END:VEVENT
BEGIN:VEVENT
DTSTART;TZID=Europe/Helsinki:20261014T140000
DTEND;TZID=Europe/Helsinki:20261014T140000
DTSTAMP:20260421T182416
CREATED:20260408T121656Z
LAST-MODIFIED:20260408T121656Z
UID:10000134-1791986400-1791986400@fuchstal.de
SUMMARY:Senioren-Erntedank
DESCRIPTION:
URL:https://fuchstal.de/termin/senioren-erntedank/
LOCATION:Hofgartenhaus Leeder
END:VEVENT
BEGIN:VEVENT
DTSTART;TZID=Europe/Helsinki:20261020T140000
DTEND;TZID=Europe/Helsinki:20261020T140000
DTSTAMP:20260421T182416
CREATED:20260408T121856Z
LAST-MODIFIED:20260408T121856Z
UID:10000135-1792504800-1792504800@fuchstal.de
SUMMARY:monatliches Treffen
DESCRIPTION:
URL:https://fuchstal.de/termin/monatliches-treffen-8/
LOCATION:Haus der Begegnung Asch
END:VEVENT
BEGIN:VEVENT
DTSTART;TZID=Europe/Helsinki:20261021T143000
DTEND;TZID=Europe/Helsinki:20261021T143000
DTSTAMP:20260421T182416
CREATED:20260408T121856Z
LAST-MODIFIED:20260408T121856Z
UID:10000136-1792593000-1792593000@fuchstal.de
SUMMARY:Kraftquelle
DESCRIPTION:
URL:https://fuchstal.de/termin/kraftquelle-3/
LOCATION:Mehrzweckhalle Udi
END:VEVENT
BEGIN:VEVENT
DTSTART;TZID=Europe/Helsinki:20261024T190000
DTEND;TZID=Europe/Helsinki:20261024T190000
DTSTAMP:20260421T182416
CREATED:20260408T121857Z
LAST-MODIFIED:20260408T121857Z
UID:10000137-1792868400-1792868400@fuchstal.de
SUMMARY:Böhmischer Abend
DESCRIPTION:
URL:https://fuchstal.de/termin/boehmischer-abend/
LOCATION:Haus der Begegnung Asch
END:VEVENT
BEGIN:VEVENT
DTSTART;TZID=Europe/Helsinki:20261106T200000
DTEND;TZID=Europe/Helsinki:20261106T200000
DTSTAMP:20260421T182416
CREATED:20260408T121857Z
LAST-MODIFIED:20260408T121857Z
UID:10000138-1793995200-1793995200@fuchstal.de
SUMMARY:Jahreshauptversammlung
DESCRIPTION:
URL:https://fuchstal.de/termin/jahreshauptversammlung-9/
LOCATION:Bayern
END:VEVENT
BEGIN:VEVENT
DTSTART;TZID=Europe/Helsinki:20261107T101500
DTEND;TZID=Europe/Helsinki:20261107T101500
DTSTAMP:20260421T182416
CREATED:20260408T121857Z
LAST-MODIFIED:20260408T121857Z
UID:10000139-1794046500-1794046500@fuchstal.de
SUMMARY:Marsch zur Kirche;\nGedenkgottesdienst zum Veteranenjahrtag;\nMarsch durch's Dorf
DESCRIPTION:
URL:https://fuchstal.de/termin/marsch-zur-kirchegedenkgottesdienst-zum-veteranenjahrtagmarsch-durchs-dorf/
LOCATION:Pfarrkirche Asch
END:VEVENT
BEGIN:VEVENT
DTSTART;TZID=Europe/Helsinki:20261107T140000
DTEND;TZID=Europe/Helsinki:20261107T140000
DTSTAMP:20260421T182416
CREATED:20260408T121929Z
LAST-MODIFIED:20260408T121929Z
UID:10000140-1794060000-1794060000@fuchstal.de
SUMMARY:Jahreshauptversammlung
DESCRIPTION:
URL:https://fuchstal.de/termin/jahreshauptversammlung-10/
LOCATION:Landhaus Blätz
END:VEVENT
BEGIN:VEVENT
DTSTART;TZID=Europe/Helsinki:20261108T140000
DTEND;TZID=Europe/Helsinki:20261108T140000
DTSTAMP:20260421T182416
CREATED:20260408T121929Z
LAST-MODIFIED:20260408T121929Z
UID:10000141-1794146400-1794146400@fuchstal.de
SUMMARY:Leonhardsandacht
DESCRIPTION:
URL:https://fuchstal.de/termin/leonhardsandacht/
LOCATION:Leonhardskapelle\, Leonhardstraße 15\, Fuchstal\, Bayern\, 86925\, Deutschland
ORGANIZER;CN="Pfarrei Asch":MAILTO:pg-fuchstal@bistum-augsburg.de
END:VEVENT
BEGIN:VEVENT
DTSTART;TZID=Europe/Helsinki:20261110T140000
DTEND;TZID=Europe/Helsinki:20261110T140000
DTSTAMP:20260421T182416
CREATED:20260408T121929Z
LAST-MODIFIED:20260408T121929Z
UID:10000142-1794319200-1794319200@fuchstal.de
SUMMARY:Jubilarsnachmittag
DESCRIPTION:
URL:https://fuchstal.de/termin/jubilarsnachmittag-2/
LOCATION:Haus der Begegnung Asch
END:VEVENT
BEGIN:VEVENT
DTSTART;TZID=Europe/Helsinki:20261111T140000
DTEND;TZID=Europe/Helsinki:20261111T140000
DTSTAMP:20260421T182416
CREATED:20260408T121929Z
LAST-MODIFIED:20260408T121929Z
UID:10000143-1794405600-1794405600@fuchstal.de
SUMMARY:Senioren-Nachmittag
DESCRIPTION:
URL:https://fuchstal.de/termin/senioren-nachmittag-7/
LOCATION:Hofgartenhaus Leeder
END:VEVENT
BEGIN:VEVENT
DTSTART;TZID=Europe/Helsinki:20261114T120000
DTEND;TZID=Europe/Helsinki:20261114T120000
DTSTAMP:20260421T182416
CREATED:20260408T121929Z
LAST-MODIFIED:20260408T121929Z
UID:10000144-1794657600-1794657600@fuchstal.de
SUMMARY:Schlachtschüsselessen
DESCRIPTION:
URL:https://fuchstal.de/termin/schlachtschuesselessen/
LOCATION:Almhütte Leeder
END:VEVENT
BEGIN:VEVENT
DTSTART;TZID=Europe/Helsinki:20261117T000000
DTEND;TZID=Europe/Helsinki:20261117T000000
DTSTAMP:20260421T182416
CREATED:20260408T121944Z
LAST-MODIFIED:20260408T121944Z
UID:10000145-1794873600-1794873600@fuchstal.de
SUMMARY:Ewige Anbetung
DESCRIPTION:
URL:https://fuchstal.de/termin/ewige-anbetung/
LOCATION:Kirche Leeder\, Kirchenweg 2\, Fuchstal\, Bayern\, 86925\, Deutschland
ORGANIZER;CN="Pfarrei Leeder":MAILTO:pg-fuchstal@bistum-augsburg.de
END:VEVENT
BEGIN:VEVENT
DTSTART;TZID=Europe/Helsinki:20261117T140000
DTEND;TZID=Europe/Helsinki:20261117T140000
DTSTAMP:20260421T182416
CREATED:20260408T121944Z
LAST-MODIFIED:20260408T121944Z
UID:10000146-1794924000-1794924000@fuchstal.de
SUMMARY:monatliches Treffen
DESCRIPTION:
URL:https://fuchstal.de/termin/monatliches-treffen-9/
LOCATION:Bayern
END:VEVENT
BEGIN:VEVENT
DTSTART;TZID=Europe/Helsinki:20261119T000000
DTEND;TZID=Europe/Helsinki:20261119T000000
DTSTAMP:20260421T182416
CREATED:20260408T121945Z
LAST-MODIFIED:20260408T121945Z
UID:10000147-1795046400-1795046400@fuchstal.de
SUMMARY:Ewige Anbetung
DESCRIPTION:
URL:https://fuchstal.de/termin/ewige-anbetung-2/
LOCATION:Kirche Asch\, Kirchenweg 2\, Fuchstal\, Bayern\, 86925\, Deutschland
ORGANIZER;CN="Pfarrei Asch":MAILTO:pg-fuchstal@bistum-augsburg.de
END:VEVENT
BEGIN:VEVENT
DTSTART;TZID=Europe/Helsinki:20261128T200000
DTEND;TZID=Europe/Helsinki:20261128T200000
DTSTAMP:20260421T182416
CREATED:20260408T121945Z
LAST-MODIFIED:20260408T121945Z
UID:10000148-1795896000-1795896000@fuchstal.de
SUMMARY:Konzert
DESCRIPTION:
URL:https://fuchstal.de/termin/konzert/
LOCATION:Fuchstalhalle\, Freybergstraße 34\, Fuchstal\, Bayern\, 86925\, Deutschland
ORGANIZER;CN="Blaskapelle Markt Leeder":MAILTO:vorstand@blaskapelle-markt-leeder.de
END:VEVENT
BEGIN:VEVENT
DTSTART;TZID=Europe/Helsinki:20261129T100000
DTEND;TZID=Europe/Helsinki:20261129T100000
DTSTAMP:20260421T182416
CREATED:20260408T121945Z
LAST-MODIFIED:20260408T121945Z
UID:10000149-1795946400-1795946400@fuchstal.de
SUMMARY:Kinderkirche zum 1. Advent
DESCRIPTION:
URL:https://fuchstal.de/termin/kinderkirche-zum-1-advent/
LOCATION:Hofgartenhaus Leeder
END:VEVENT
BEGIN:VEVENT
DTSTART;TZID=Europe/Helsinki:20261129T140000
DTEND;TZID=Europe/Helsinki:20261129T140000
DTSTAMP:20260421T182416
CREATED:20260408T122008Z
LAST-MODIFIED:20260408T122008Z
UID:10000150-1795960800-1795960800@fuchstal.de
SUMMARY:Weihnachtsreiten
DESCRIPTION:
URL:https://fuchstal.de/termin/weihnachtsreiten/
LOCATION:Reitanlage Asch
ORGANIZER;CN="Reit- und Fahrverein Fuchstal e.V.":MAILTO:simonhefele@gmx.de
END:VEVENT
BEGIN:VEVENT
DTSTART;TZID=Europe/Helsinki:20261203T190000
DTEND;TZID=Europe/Helsinki:20261203T190000
DTSTAMP:20260421T182416
CREATED:20260408T122008Z
LAST-MODIFIED:20260408T122008Z
UID:10000151-1796324400-1796324400@fuchstal.de
SUMMARY:Nikolausschießen
DESCRIPTION:
URL:https://fuchstal.de/termin/nikolausschiessen/
LOCATION:Schützenheim Leeder\, Freybergstraße 34\, Fuchstal\, Bayern\, 86925\, Deutschland
END:VEVENT
BEGIN:VEVENT
DTSTART;TZID=Europe/Helsinki:20261205T000000
DTEND;TZID=Europe/Helsinki:20261205T000000
DTSTAMP:20260421T182416
CREATED:20260408T122008Z
LAST-MODIFIED:20260408T122008Z
UID:10000152-1796428800-1796428800@fuchstal.de
SUMMARY:Weihnachtsmarkt
DESCRIPTION:
URL:https://fuchstal.de/termin/weihnachtsmarkt/
LOCATION:Asch
END:VEVENT
END:VCALENDAR