BEGIN:VCALENDAR
VERSION:2.0
PRODID:-//Gemeinde Fuchstal - ECPv6.15.20//NONSGML v1.0//EN
CALSCALE:GREGORIAN
METHOD:PUBLISH
X-ORIGINAL-URL:https://fuchstal.de
X-WR-CALDESC:Veranstaltungen für Gemeinde Fuchstal
REFRESH-INTERVAL;VALUE=DURATION:PT1H
X-Robots-Tag:noindex
X-PUBLISHED-TTL:PT1H
BEGIN:VTIMEZONE
TZID:Europe/Helsinki
BEGIN:DAYLIGHT
TZOFFSETFROM:+0200
TZOFFSETTO:+0300
TZNAME:EEST
DTSTART:20250330T010000
END:DAYLIGHT
BEGIN:STANDARD
TZOFFSETFROM:+0300
TZOFFSETTO:+0200
TZNAME:EET
DTSTART:20251026T010000
END:STANDARD
BEGIN:DAYLIGHT
TZOFFSETFROM:+0200
TZOFFSETTO:+0300
TZNAME:EEST
DTSTART:20260329T010000
END:DAYLIGHT
BEGIN:STANDARD
TZOFFSETFROM:+0300
TZOFFSETTO:+0200
TZNAME:EET
DTSTART:20261025T010000
END:STANDARD
BEGIN:DAYLIGHT
TZOFFSETFROM:+0200
TZOFFSETTO:+0300
TZNAME:EEST
DTSTART:20270328T010000
END:DAYLIGHT
BEGIN:STANDARD
TZOFFSETFROM:+0300
TZOFFSETTO:+0200
TZNAME:EET
DTSTART:20271031T010000
END:STANDARD
END:VTIMEZONE
BEGIN:VEVENT
DTSTART;TZID=Europe/Helsinki:20260610T140000
DTEND;TZID=Europe/Helsinki:20260610T140000
DTSTAMP:20260421T153112
CREATED:20260408T121234Z
LAST-MODIFIED:20260408T121234Z
UID:10000099-1781100000-1781100000@fuchstal.de
SUMMARY:Senioren-Nachmittag
DESCRIPTION:
URL:https://fuchstal.de/termin/senioren-nachmittag-5/
LOCATION:Hofgartenhaus Leeder
END:VEVENT
BEGIN:VEVENT
DTSTART;TZID=Europe/Helsinki:20260614T210000
DTEND;TZID=Europe/Helsinki:20260614T210000
DTSTAMP:20260421T153112
CREATED:20260408T121324Z
LAST-MODIFIED:20260408T121324Z
UID:10000100-1781470800-1781470800@fuchstal.de
SUMMARY:Spätmesse
DESCRIPTION:
URL:https://fuchstal.de/termin/spaetmesse/
LOCATION:Stockkapelle\, Kirchenweg 2\, Fuchstal\, Bayern\, 86925\, Deutschland
END:VEVENT
BEGIN:VEVENT
DTSTART;TZID=Europe/Helsinki:20260616T140000
DTEND;TZID=Europe/Helsinki:20260616T140000
DTSTAMP:20260421T153112
CREATED:20260408T121324Z
LAST-MODIFIED:20260408T121324Z
UID:10000101-1781618400-1781618400@fuchstal.de
SUMMARY:monatliches Treffen
DESCRIPTION:
URL:https://fuchstal.de/termin/monatliches-treffen-5/
LOCATION:Haus der Begegnung Asch
END:VEVENT
BEGIN:VEVENT
DTSTART;TZID=Europe/Helsinki:20260620T170000
DTEND;TZID=Europe/Helsinki:20260620T170000
DTSTAMP:20260421T153112
CREATED:20260408T121324Z
LAST-MODIFIED:20260408T121324Z
UID:10000102-1781974800-1781974800@fuchstal.de
SUMMARY:Dorffest Leeder
DESCRIPTION:
URL:https://fuchstal.de/termin/dorffest-leeder/
LOCATION:Im Hofgarten
END:VEVENT
BEGIN:VEVENT
DTSTART;TZID=Europe/Helsinki:20260621T100000
DTEND;TZID=Europe/Helsinki:20260621T100000
DTSTAMP:20260421T153112
CREATED:20260408T121324Z
LAST-MODIFIED:20260408T121324Z
UID:10000103-1782036000-1782036000@fuchstal.de
SUMMARY:Patrozinium
DESCRIPTION:
URL:https://fuchstal.de/termin/patrozinium/
LOCATION:Kirche Asch\, Kirchenweg 2\, Fuchstal\, Bayern\, 86925\, Deutschland
ORGANIZER;CN="Pfarrei Asch":MAILTO:pg-fuchstal@bistum-augsburg.de
END:VEVENT
BEGIN:VEVENT
DTSTART;TZID=Europe/Helsinki:20260621T100000
DTEND;TZID=Europe/Helsinki:20260621T100000
DTSTAMP:20260421T153112
CREATED:20260408T121324Z
LAST-MODIFIED:20260408T121324Z
UID:10000104-1782036000-1782036000@fuchstal.de
SUMMARY:Kinderkirche
DESCRIPTION:
URL:https://fuchstal.de/termin/kinderkirche-2/
LOCATION:Haus der Begegnung Asch
END:VEVENT
BEGIN:VEVENT
DTSTART;TZID=Europe/Helsinki:20260621T173000
DTEND;TZID=Europe/Helsinki:20260621T173000
DTSTAMP:20260421T153112
CREATED:20260408T121339Z
LAST-MODIFIED:20260408T121339Z
UID:10000105-1782063000-1782063000@fuchstal.de
SUMMARY:Fußmarsch vom Kirchparkplatz zum Denkmal\, anschl. Ansprachen zum "Tag der Veteranen" mit anschließendem Kameradschaftstreffen
DESCRIPTION:
URL:https://fuchstal.de/termin/fussmarsch-vom-kirchparkplatz-zum-denkmal-anschl-ansprachen-zum-tag-der-veteranen-mit-anschliessendem-kameradschaftstreffen/
LOCATION:Asch
END:VEVENT
BEGIN:VEVENT
DTSTART;TZID=Europe/Helsinki:20260703T160000
DTEND;TZID=Europe/Helsinki:20260703T160000
DTSTAMP:20260421T153112
CREATED:20260408T121339Z
LAST-MODIFIED:20260408T121339Z
UID:10000106-1783094400-1783094400@fuchstal.de
SUMMARY:Andechswallfahrt
DESCRIPTION:
URL:https://fuchstal.de/termin/andechswallfahrt/
LOCATION:Maibaum am Luitpoldsaal
END:VEVENT
BEGIN:VEVENT
DTSTART;TZID=Europe/Helsinki:20260704T073000
DTEND;TZID=Europe/Helsinki:20260704T073000
DTSTAMP:20260421T153112
CREATED:20260408T121340Z
LAST-MODIFIED:20260408T121340Z
UID:10000107-1783150200-1783150200@fuchstal.de
SUMMARY:Jugendwallfahrt zur Wieskirche
DESCRIPTION:
URL:https://fuchstal.de/termin/jugendwallfahrt-zur-wieskirche/
LOCATION:Bayern
END:VEVENT
BEGIN:VEVENT
DTSTART;TZID=Europe/Helsinki:20260704T190000
DTEND;TZID=Europe/Helsinki:20260704T190000
DTSTAMP:20260421T153112
CREATED:20260408T121340Z
LAST-MODIFIED:20260408T121340Z
UID:10000108-1783191600-1783191600@fuchstal.de
SUMMARY:Grillfest
DESCRIPTION:
URL:https://fuchstal.de/termin/grillfest/
LOCATION:Schützenheim Leeder\, Freybergstraße 34\, Fuchstal\, Bayern\, 86925\, Deutschland
END:VEVENT
BEGIN:VEVENT
DTSTART;TZID=Europe/Helsinki:20260707T184500
DTEND;TZID=Europe/Helsinki:20260707T184500
DTSTAMP:20260421T153112
CREATED:20260408T121340Z
LAST-MODIFIED:20260408T121340Z
UID:10000109-1783449900-1783449900@fuchstal.de
SUMMARY:Ulrichsbittgang
DESCRIPTION:
URL:https://fuchstal.de/termin/ulrichsbittgang/
LOCATION:Bayern
ORGANIZER;CN="Pfarrei Leeder":MAILTO:pg-fuchstal@bistum-augsburg.de
END:VEVENT
BEGIN:VEVENT
DTSTART;TZID=Europe/Helsinki:20260711T180000
DTEND;TZID=Europe/Helsinki:20260711T180000
DTSTAMP:20260421T153112
CREATED:20260408T121540Z
LAST-MODIFIED:20260408T121540Z
UID:10000110-1783792800-1783792800@fuchstal.de
SUMMARY:Almhüttenfest
DESCRIPTION:
URL:https://fuchstal.de/termin/almhuettenfest/
LOCATION:Almhütte Leeder
END:VEVENT
BEGIN:VEVENT
DTSTART;TZID=Europe/Helsinki:20260712T100000
DTEND;TZID=Europe/Helsinki:20260712T100000
DTSTAMP:20260421T153112
CREATED:20260408T121540Z
LAST-MODIFIED:20260408T121540Z
UID:10000111-1783850400-1783850400@fuchstal.de
SUMMARY:Radltour
DESCRIPTION:
URL:https://fuchstal.de/termin/radltour/
LOCATION:Treffpunkt am Rathaus
END:VEVENT
BEGIN:VEVENT
DTSTART;TZID=Europe/Helsinki:20260718T160000
DTEND;TZID=Europe/Helsinki:20260718T160000
DTSTAMP:20260421T153112
CREATED:20260408T121541Z
LAST-MODIFIED:20260408T121541Z
UID:10000112-1784390400-1784390400@fuchstal.de
SUMMARY:Veteranenjahrtag
DESCRIPTION:
URL:https://fuchstal.de/termin/veteranenjahrtag/
LOCATION:FFW Leeder
END:VEVENT
BEGIN:VEVENT
DTSTART;TZID=Europe/Helsinki:20260719T210000
DTEND;TZID=Europe/Helsinki:20260719T210000
DTSTAMP:20260421T153112
CREATED:20260408T121541Z
LAST-MODIFIED:20260408T121541Z
UID:10000113-1784494800-1784494800@fuchstal.de
SUMMARY:Spätmesse
DESCRIPTION:
URL:https://fuchstal.de/termin/spaetmesse-2/
LOCATION:Stockkapelle\, Kirchenweg 2\, Fuchstal\, Bayern\, 86925\, Deutschland
END:VEVENT
BEGIN:VEVENT
DTSTART;TZID=Europe/Helsinki:20260721T140000
DTEND;TZID=Europe/Helsinki:20260721T140000
DTSTAMP:20260421T153112
CREATED:20260408T121541Z
LAST-MODIFIED:20260408T121541Z
UID:10000114-1784642400-1784642400@fuchstal.de
SUMMARY:monatliches Treffen
DESCRIPTION:
URL:https://fuchstal.de/termin/monatliches-treffen-6/
LOCATION:Haus der Begegnung Asch
END:VEVENT
BEGIN:VEVENT
DTSTART;TZID=Europe/Helsinki:20260725T000000
DTEND;TZID=Europe/Helsinki:20260726T000000
DTSTAMP:20260421T153112
CREATED:20260408T121637Z
LAST-MODIFIED:20260408T121637Z
UID:10000115-1784937600-1785024000@fuchstal.de
SUMMARY:Dorffest
DESCRIPTION:
URL:https://fuchstal.de/termin/dorffest/
LOCATION:Asch
END:VEVENT
BEGIN:VEVENT
DTSTART;TZID=Europe/Helsinki:20260801T080000
DTEND;TZID=Europe/Helsinki:20260802T000000
DTSTAMP:20260421T153112
CREATED:20260408T121638Z
LAST-MODIFIED:20260408T121638Z
UID:10000116-1785571200-1785628800@fuchstal.de
SUMMARY:Turnier
DESCRIPTION:
URL:https://fuchstal.de/termin/turnier/
LOCATION:Reitanlage Asch
ORGANIZER;CN="Reit- und Fahrverein Fuchstal e.V.":MAILTO:simonhefele@gmx.de
END:VEVENT
BEGIN:VEVENT
DTSTART;TZID=Europe/Helsinki:20260815T100000
DTEND;TZID=Europe/Helsinki:20260815T100000
DTSTAMP:20260421T153112
CREATED:20260408T121638Z
LAST-MODIFIED:20260408T121638Z
UID:10000117-1786788000-1786788000@fuchstal.de
SUMMARY:Gottesdienst mit Kräutersegnung
DESCRIPTION:
URL:https://fuchstal.de/termin/gottesdienst-mit-kraeutersegnung/
LOCATION:Stockkapelle\, Kirchenweg 2\, Fuchstal\, Bayern\, 86925\, Deutschland
END:VEVENT
BEGIN:VEVENT
DTSTART;TZID=Europe/Helsinki:20260823T200000
DTEND;TZID=Europe/Helsinki:20260823T200000
DTSTAMP:20260421T153112
CREATED:20260408T121638Z
LAST-MODIFIED:20260408T121638Z
UID:10000118-1787515200-1787515200@fuchstal.de
SUMMARY:Spätmesse
DESCRIPTION:
URL:https://fuchstal.de/termin/spaetmesse-3/
LOCATION:Stockkapelle\, Kirchenweg 2\, Fuchstal\, Bayern\, 86925\, Deutschland
END:VEVENT
BEGIN:VEVENT
DTSTART;TZID=Europe/Helsinki:20260909T140000
DTEND;TZID=Europe/Helsinki:20260909T140000
DTSTAMP:20260421T153112
CREATED:20260408T121638Z
LAST-MODIFIED:20260408T121638Z
UID:10000119-1788962400-1788962400@fuchstal.de
SUMMARY:Senioren-Nachmittag
DESCRIPTION:
URL:https://fuchstal.de/termin/senioren-nachmittag-6/
LOCATION:Hofgartenhaus Leeder
END:VEVENT
BEGIN:VEVENT
DTSTART;TZID=Europe/Helsinki:20260910T190000
DTEND;TZID=Europe/Helsinki:20260910T190000
DTSTAMP:20260421T153112
CREATED:20260408T121640Z
LAST-MODIFIED:20260408T121640Z
UID:10000120-1789066800-1789066800@fuchstal.de
SUMMARY:Anfangsschießen
DESCRIPTION:
URL:https://fuchstal.de/termin/anfangsschiessen/
LOCATION:Schützenheim Leeder\, Freybergstraße 34\, Fuchstal\, Bayern\, 86925\, Deutschland
END:VEVENT
BEGIN:VEVENT
DTSTART;TZID=Europe/Helsinki:20260912T170000
DTEND;TZID=Europe/Helsinki:20260912T170000
DTSTAMP:20260421T153112
CREATED:20260408T121640Z
LAST-MODIFIED:20260408T121640Z
UID:10000121-1789232400-1789232400@fuchstal.de
SUMMARY:Steckerlfischessen
DESCRIPTION:
URL:https://fuchstal.de/termin/steckerlfischessen/
LOCATION:Bayern
END:VEVENT
BEGIN:VEVENT
DTSTART;TZID=Europe/Helsinki:20260913T103000
DTEND;TZID=Europe/Helsinki:20260913T103000
DTSTAMP:20260421T153112
CREATED:20260408T121640Z
LAST-MODIFIED:20260408T121640Z
UID:10000122-1789295400-1789295400@fuchstal.de
SUMMARY:Bergmesse
DESCRIPTION:
URL:https://fuchstal.de/termin/bergmesse/
LOCATION:Bayern
END:VEVENT
BEGIN:VEVENT
DTSTART;TZID=Europe/Helsinki:20260914T181500
DTEND;TZID=Europe/Helsinki:20260914T181500
DTSTAMP:20260421T153112
CREATED:20260408T121640Z
LAST-MODIFIED:20260408T121640Z
UID:10000123-1789409700-1789409700@fuchstal.de
SUMMARY:Gelöbniswallfahrt \nzur Stockkapelle
DESCRIPTION:
URL:https://fuchstal.de/termin/geloebniswallfahrt-zur-stockkapelle/
LOCATION:Bayern
ORGANIZER;CN="Pfarrei Asch":MAILTO:pg-fuchstal@bistum-augsburg.de
END:VEVENT
BEGIN:VEVENT
DTSTART;TZID=Europe/Helsinki:20260915T140000
DTEND;TZID=Europe/Helsinki:20260915T140000
DTSTAMP:20260421T153112
CREATED:20260408T121640Z
LAST-MODIFIED:20260408T121640Z
UID:10000124-1789480800-1789480800@fuchstal.de
SUMMARY:monatliches Treffen
DESCRIPTION:
URL:https://fuchstal.de/termin/monatliches-treffen-7/
LOCATION:Haus der Begegnung Asch
END:VEVENT
BEGIN:VEVENT
DTSTART;TZID=Europe/Helsinki:20260927T100000
DTEND;TZID=Europe/Helsinki:20260927T100000
DTSTAMP:20260421T153112
CREATED:20260408T121651Z
LAST-MODIFIED:20260408T121651Z
UID:10000125-1790503200-1790503200@fuchstal.de
SUMMARY:Kinderkirche
DESCRIPTION:
URL:https://fuchstal.de/termin/kinderkirche-3/
LOCATION:Pfarrheim Denklingen
END:VEVENT
BEGIN:VEVENT
DTSTART;TZID=Europe/Helsinki:20261003T180000
DTEND;TZID=Europe/Helsinki:20261003T180000
DTSTAMP:20260421T153112
CREATED:20260408T121651Z
LAST-MODIFIED:20260408T121651Z
UID:10000126-1791050400-1791050400@fuchstal.de
SUMMARY:Ehedankgottesdienst
DESCRIPTION:
URL:https://fuchstal.de/termin/ehedankgottesdienst/
LOCATION:Kirche Asch\, Kirchenweg 2\, Fuchstal\, Bayern\, 86925\, Deutschland
END:VEVENT
BEGIN:VEVENT
DTSTART;TZID=Europe/Helsinki:20261004T100000
DTEND;TZID=Europe/Helsinki:20261004T100000
DTSTAMP:20260421T153112
CREATED:20260408T121651Z
LAST-MODIFIED:20260408T121651Z
UID:10000127-1791108000-1791108000@fuchstal.de
SUMMARY:Patrozinium
DESCRIPTION:
URL:https://fuchstal.de/termin/patrozinium-2/
LOCATION:Kirche Leeder\, Kirchenweg 2\, Fuchstal\, Bayern\, 86925\, Deutschland
ORGANIZER;CN="Pfarrei Leeder":MAILTO:pg-fuchstal@bistum-augsburg.de
END:VEVENT
BEGIN:VEVENT
DTSTART;TZID=Europe/Helsinki:20261004T100000
DTEND;TZID=Europe/Helsinki:20261004T100000
DTSTAMP:20260421T153112
CREATED:20260408T121651Z
LAST-MODIFIED:20260408T121651Z
UID:10000128-1791108000-1791108000@fuchstal.de
SUMMARY:Kinderkirche
DESCRIPTION:
URL:https://fuchstal.de/termin/kinderkirche-4/
LOCATION:Hofgartenhaus Leeder
END:VEVENT
END:VCALENDAR